DatasetHeader Begin
	Version	= "7.0"
	Name	= "D:\Enceladus\Data\Alapterkep\PIA12564.ers"
	SourceDataset	= "D:\Enceladus\Data\Alapterkep\PIA12564.tif"
	LastUpdated	= Fri Mar 09 10:47:47 GMT 2012
	DataFile	= "D:\Enceladus\Data\Alapterkep\PIA12564.tif"
	DataSetType	= Translated
	DataType	= Raster
	ByteOrder	= MSBFirst
	CoordinateSpace Begin
		Datum	= "ENCELADUS"
		Projection	= "GEODETIC"
		CoordinateType	= LL
		Rotation	= 0:0:0.0
	CoordinateSpace End
	RasterInfo Begin
		CellType	= Unsigned8BitInteger
		CellInfo Begin
			Xdimension	= 0.050000000000000003
			Ydimension	= 0.050000000000000003
		CellInfo End
		NrOfLines	= 3600
		NrOfCellsPerLine	= 7200
		RegistrationCoord Begin
			Latitude	= 90:0:0.0
			Longitude	= -180:0:0.0
		RegistrationCoord End
		NrOfBands	= 1
		BandId Begin
			Value	= "Greyscale"
		BandId End
		WarpControl Begin
			WarpType	= Map
			WarpSampling	= Nearest
			Rotation	= 0
			DemMeterFactor	= 1
			ChooseGcpsFromDigitizer	= No
			ChooseGcpsFromImage	= No
			OutputFile	= "D:\Enceladus\Data\Alapterkep\PIA12564_PC.ers"
			UseAverageHeight	= No
			AverageHeight	= 0
			OutputCellSizeX	= 250
			OutputCellSizeY	= 250
			OutputHasNullCells	= Yes
			OutputNullCellValue	= 0
			Correction Begin
				RadialLens	= No
				PolyLens	= No
				Atmospheric	= No
				EarthCurvature	= No
			Correction End
			GivenOrthoInfo Begin
				AttitudeOmega	= 0
				AttitudePhi	= 0
				AttitudeKappa	= 0
				ExposureCenterX	= 0
				ExposureCenterY	= 0
				ExposureCenterZ	= 0
				SCALE	= 0
				CoordinateSpace Begin
					Datum	= "RAW"
					Projection	= "RAW"
					CoordinateType	= RAW
					Rotation	= 0:0:0.0
				CoordinateSpace End
			GivenOrthoInfo End
			CoordinateSpace Begin
				Datum	= "RAW"
				Projection	= "RAW"
				CoordinateType	= RAW
				Rotation	= 0:0:0.0
			CoordinateSpace End
			MapToMapInfo Begin
				CoordinateSpace Begin
					Datum	= "ENCELADUS"
					Projection	= "PCENC"
					CoordinateType	= EN
					Rotation	= 0:0:0.0
				CoordinateSpace End
			MapToMapInfo End
			ExtentsUsed	= Maximum
			Extents Begin
				TopLeftCorner Begin
					MetersX	= -791995.50796998665
					MetersY	= 395997.75398499332
				TopLeftCorner End
				BottomRightCorner Begin
					MetersX	= 791995.50796998688
					MetersY	= -395997.75398499344
				BottomRightCorner End
			Extents End
		WarpControl End
		RegionInfo Begin
			Type	= Polygon
			RegionName	= "All"
			SubRegion	= { 0 0 0 3600 7200 3600 7200 0 }
		RegionInfo End
	RasterInfo End
DatasetHeader End
